BEGIN:VCALENDAR
VERSION:2.0
PRODID:PHP
METHOD:REQUEST
X-ORIGINAL-URL:http://www.tischfussball-noe.at/index.php/sport-manager?task=team_begegnungen_ical&id=222
X-WR-CALNAME;VALUE=TEXT:ASKÖ TFC Twisters Schönering
BEGIN:VEVENT
CLASS:PUBLIC
DTSTART:20210829T100000Z
DURATION:PT2H30M
STATUS:CONFIRMED
SUMMARY:ASKÖ TFC Twisters Schönering vs. Tfc Tulln
DESCRIPTION:Bundesliga Kreuzspiele 2021 (7. Runde)\nErgebnis: 15:4 (15:4)
LOCATION:Bundesleistungszentrum Pielachtal, Schwerbach 4, 3204 Kirchberg-Schwerbach
UID:SM-B525@www.tischfussball-noe.at
PRIORITY:5
SEQUENCE:1
CATEGORIES:SPORT
DTSTAMP:20260421T154742
END:VEVENT
BEGIN:VEVENT
CLASS:PUBLIC
DTSTART:20211023T080000Z
DURATION:PT2H30M
STATUS:CONFIRMED
SUMMARY:seeN Wien vs. ASKÖ TFC Twisters Schönering
DESCRIPTION:Finale BL 2021 (Viertelfinale)\nErgebnis: 14:15 (14:15)
LOCATION:TFC Twisters, Schulgasse 7, 4073 Schönering
UID:SM-B540@www.tischfussball-noe.at
PRIORITY:5
SEQUENCE:1
CATEGORIES:SPORT
DTSTAMP:20260421T154742
END:VEVENT
BEGIN:VEVENT
CLASS:PUBLIC
DTSTART:20211023T120000Z
DURATION:PT2H30M
STATUS:CONFIRMED
SUMMARY:TFC-Pielachtal vs. ASKÖ TFC Twisters Schönering
DESCRIPTION:Finale BL 2021 (Halbfinale)\nErgebnis: 12:4 (12:4)
LOCATION:TFC Twisters, Schulgasse 7, 4073 Schönering
UID:SM-B548@www.tischfussball-noe.at
PRIORITY:5
SEQUENCE:1
CATEGORIES:SPORT
DTSTAMP:20260421T154742
END:VEVENT
BEGIN:VEVENT
CLASS:PUBLIC
DTSTART:20211023T151500Z
DURATION:PT2H30M
STATUS:CONFIRMED
SUMMARY:ASKÖ TFC Twisters Schönering vs. SC Schwaz
DESCRIPTION:Finale BL 2021 (Platz 3)\nErgebnis: 13:15 (13:15)
LOCATION:TFC Twisters, Schulgasse 7, 4073 Schönering
UID:SM-B550@www.tischfussball-noe.at
PRIORITY:5
SEQUENCE:1
CATEGORIES:SPORT
DTSTAMP:20260421T154742
END:VEVENT
END:VCALENDAR
