BEGIN:VCALENDAR
VERSION:2.0
PRODID:PHP
METHOD:REQUEST
X-ORIGINAL-URL:http://www.tischfussball-noe.at/index.php/sport-manager?task=team_begegnungen_ical&id=174
X-WR-CALNAME;VALUE=TEXT:SU TFC Tulln
BEGIN:VEVENT
CLASS:PUBLIC
DTSTART:20190426T180000Z
DURATION:PT2H30M
STATUS:CONFIRMED
SUMMARY:SKN St. Pölten 2 vs. SU TFC Tulln
DESCRIPTION:NÖ Liga 2019 (1. Spieltag)\nErgebnis: 7:3 (16:6)
LOCATION:BarRock, Andreas - Hofer - Str. 5, 3100 St.Pölten
UID:SM-B345@www.tischfussball-noe.at
PRIORITY:5
SEQUENCE:1
CATEGORIES:SPORT
DTSTAMP:20260422T122851
END:VEVENT
BEGIN:VEVENT
CLASS:PUBLIC
DTSTART:20190524T180000Z
DURATION:PT2H30M
STATUS:CONFIRMED
SUMMARY:SU TFC Tulln vs. SU TFC Pielachtal
DESCRIPTION:NÖ Liga 2019 (3. Spieltag)\nErgebnis: 3:7 (11:16)
LOCATION:Da Capo, Kirchengasse 20, 3430 Tulln
UID:SM-B349@www.tischfussball-noe.at
PRIORITY:5
SEQUENCE:1
CATEGORIES:SPORT
DTSTAMP:20260422T122851
END:VEVENT
BEGIN:VEVENT
CLASS:PUBLIC
DTSTART:20190607T180000Z
DURATION:PT2H30M
STATUS:CONFIRMED
SUMMARY:SKN St. Pölten 1 vs. SU TFC Tulln
DESCRIPTION:NÖ Liga 2019 (4. Spieltag)\nErgebnis: 7:3 (16:8)
LOCATION:BarRock, Andreas - Hofer - Str. 5, 3100 St.Pölten
UID:SM-B351@www.tischfussball-noe.at
PRIORITY:5
SEQUENCE:1
CATEGORIES:SPORT
DTSTAMP:20260422T122851
END:VEVENT
BEGIN:VEVENT
CLASS:PUBLIC
DTSTART:20190621T180000Z
DURATION:PT2H30M
STATUS:CONFIRMED
SUMMARY:TFC W4 vs. SU TFC Tulln
DESCRIPTION:NÖ Liga 2019 (5. Spieltag)\nErgebnis: 7:3 (16:8)
LOCATION:Clubhaus TFC W4, Eisengraberamt 4, 3542 Gföhl-Eisengraberamt
UID:SM-B352@www.tischfussball-noe.at
PRIORITY:5
SEQUENCE:1
CATEGORIES:SPORT
DTSTAMP:20260422T122851
END:VEVENT
BEGIN:VEVENT
CLASS:PUBLIC
DTSTART:20190906T180000Z
DURATION:PT2H30M
STATUS:CONFIRMED
SUMMARY:SU TFC Tulln vs. SKN St. Pölten 2
DESCRIPTION:NÖ Liga 2019 (6. Spieltag)\nErgebnis: 7:3 (16:8)
LOCATION:Da Capo, Kirchengasse 20, 3430 Tulln
UID:SM-B355@www.tischfussball-noe.at
PRIORITY:5
SEQUENCE:1
CATEGORIES:SPORT
DTSTAMP:20260422T122851
END:VEVENT
BEGIN:VEVENT
CLASS:PUBLIC
DTSTART:20191004T180000Z
DURATION:PT2H30M
STATUS:CONFIRMED
SUMMARY:SU TFC Pielachtal vs. SU TFC Tulln
DESCRIPTION:NÖ Liga 2019 (8. Spieltag)\nErgebnis: 4:6 (12:13)
LOCATION:Bundesleistungszentrum Pielachtal, Schwerbach 4, 3204 Kirchberg-Schwerbach
UID:SM-B359@www.tischfussball-noe.at
PRIORITY:5
SEQUENCE:1
CATEGORIES:SPORT
DTSTAMP:20260422T122851
END:VEVENT
BEGIN:VEVENT
CLASS:PUBLIC
DTSTART:20191018T180000Z
DURATION:PT2H30M
STATUS:CONFIRMED
SUMMARY:SU TFC Tulln vs. SKN St. Pölten 1
DESCRIPTION:NÖ Liga 2019 (9. Spieltag)\nErgebnis: 9:1 (19:6)
LOCATION:Da Capo, Kirchengasse 20, 3430 Tulln
UID:SM-B361@www.tischfussball-noe.at
PRIORITY:5
SEQUENCE:1
CATEGORIES:SPORT
DTSTAMP:20260422T122851
END:VEVENT
BEGIN:VEVENT
CLASS:PUBLIC
DTSTART:20191115T190000Z
DURATION:PT2H30M
STATUS:CONFIRMED
SUMMARY:SU TFC Tulln vs. TFC W4
DESCRIPTION:NÖ Liga 2019 (10. Spieltag)\nErgebnis: 5:5 (12:12)
LOCATION:Da Capo, Kirchengasse 20, 3430 Tulln
UID:SM-B362@www.tischfussball-noe.at
PRIORITY:5
SEQUENCE:1
CATEGORIES:SPORT
DTSTAMP:20260422T122851
END:VEVENT
BEGIN:VEVENT
CLASS:PUBLIC
DTSTART:20200215T143000Z
DURATION:PT2H30M
STATUS:CONFIRMED
SUMMARY:SU TFC Tulln vs. SKN St. Pölten 2
DESCRIPTION:NÖ Liga 2019 Final Four (Finale)\nErgebnis: 0:10 (1:20)
LOCATION:BarRock, Andreas - Hofer - Str. 5, 3100 St.Pölten
UID:SM-B453@www.tischfussball-noe.at
PRIORITY:5
SEQUENCE:1
CATEGORIES:SPORT
DTSTAMP:20260422T122851
END:VEVENT
BEGIN:VEVENT
CLASS:PUBLIC
DTSTART:20200215T143000Z
DURATION:PT2H30M
STATUS:CONFIRMED
SUMMARY:TFC W4 vs. SU TFC Tulln
DESCRIPTION:NÖ Liga 2019 Final Four (Halbfinale)\nErgebnis: 1:9 (7:18)
LOCATION:BarRock, Andreas - Hofer - Str. 5, 3100 St.Pölten
UID:SM-B451@www.tischfussball-noe.at
PRIORITY:5
SEQUENCE:1
CATEGORIES:SPORT
DTSTAMP:20260422T122851
END:VEVENT
END:VCALENDAR
