BEGIN:VCALENDAR
VERSION:2.0
PRODID:PHP
METHOD:REQUEST
X-ORIGINAL-URL:http://www.tischfussball-noe.at/index.php/sport-manager?task=veranstaltung_begegnungen_ical&id=27
X-WR-CALNAME;VALUE=TEXT:Gruppe West
BEGIN:VEVENT
CLASS:PUBLIC
DTSTART:20210417T120000Z
DURATION:PT2H30M
STATUS:CONFIRMED
SUMMARY:ASKÖ TFC Twisters Schönering vs. TFC Kufstein
DESCRIPTION:Gruppe West (1. Runde)\nErgebnis: 18:6 (18:6)
LOCATION:TFC Twisters, Schulgasse 7, 4073 Schönering
UID:SM-B498@www.tischfussball-noe.at
PRIORITY:5
SEQUENCE:1
CATEGORIES:SPORT
DTSTAMP:20260421T102643
BEGIN:VALARM
ACTION:DISPLAY
TRIGGER:-PT2H
END:VALARM
END:VEVENT
BEGIN:VEVENT
CLASS:PUBLIC
DTSTART:20210417T140000Z
DURATION:PT2H30M
STATUS:CONFIRMED
SUMMARY:ASKÖ TFC Twisters Schönering vs. TFC Kufstein
DESCRIPTION:Gruppe West (2. Runde)\nErgebnis: 13:7 (13:7)
LOCATION:TFC Twisters, Schulgasse 7, 4073 Schönering
UID:SM-B502@www.tischfussball-noe.at
PRIORITY:5
SEQUENCE:1
CATEGORIES:SPORT
DTSTAMP:20260421T102643
BEGIN:VALARM
ACTION:DISPLAY
TRIGGER:-PT2H
END:VALARM
END:VEVENT
BEGIN:VEVENT
CLASS:PUBLIC
DTSTART:20210502T171500Z
DURATION:PT2H30M
STATUS:CONFIRMED
SUMMARY:TFC Kufstein vs. SC Schwaz
DESCRIPTION:Gruppe West (3. Runde)\nErgebnis: 11:13 (11:13)
LOCATION:TFC Kufstein Funplexx Kinocenter, Oskar Pirlo Straße 7, 6330 Kufstein
UID:SM-B499@www.tischfussball-noe.at
PRIORITY:5
SEQUENCE:1
CATEGORIES:SPORT
DTSTAMP:20260421T102643
BEGIN:VALARM
ACTION:DISPLAY
TRIGGER:-PT2H
END:VALARM
END:VEVENT
BEGIN:VEVENT
CLASS:PUBLIC
DTSTART:20210613T170000Z
DURATION:PT2H30M
STATUS:CONFIRMED
SUMMARY:SC Schwaz vs. TFC Kufstein
DESCRIPTION:Gruppe West (4. Runde)\nErgebnis: 17:8 (17:8)
LOCATION:TFVZ Lokal, Hauptstraße 52, 6263 Fügen
UID:SM-B501@www.tischfussball-noe.at
PRIORITY:5
SEQUENCE:1
CATEGORIES:SPORT
DTSTAMP:20260421T102643
BEGIN:VALARM
ACTION:DISPLAY
TRIGGER:-PT2H
END:VALARM
END:VEVENT
BEGIN:VEVENT
CLASS:PUBLIC
DTSTART:20210626T120000Z
DURATION:PT2H30M
STATUS:CONFIRMED
SUMMARY:SC Schwaz vs. ASKÖ TFC Twisters Schönering
DESCRIPTION:Gruppe West (5. Runde)\nErgebnis: 16:12 (16:12)
LOCATION:TFVZ Lokal, Hauptstraße 52, 6263 Fügen
UID:SM-B500@www.tischfussball-noe.at
PRIORITY:5
SEQUENCE:1
CATEGORIES:SPORT
DTSTAMP:20260421T102643
BEGIN:VALARM
ACTION:DISPLAY
TRIGGER:-PT2H
END:VALARM
END:VEVENT
BEGIN:VEVENT
CLASS:PUBLIC
DTSTART:20210626T150000Z
DURATION:PT2H30M
STATUS:CONFIRMED
SUMMARY:ASKÖ TFC Twisters Schönering vs. SC Schwaz
DESCRIPTION:Gruppe West (6. Runde)\nErgebnis: 9:16 (9:16)
LOCATION:TFC Twisters, Schulgasse 7, 4073 Schönering
UID:SM-B503@www.tischfussball-noe.at
PRIORITY:5
SEQUENCE:1
CATEGORIES:SPORT
DTSTAMP:20260421T102643
BEGIN:VALARM
ACTION:DISPLAY
TRIGGER:-PT2H
END:VALARM
END:VEVENT
END:VCALENDAR
