BEGIN:VCALENDAR
VERSION:2.0
PRODID:PHP
METHOD:REQUEST
X-ORIGINAL-URL:http://www.tischfussball-noe.at/index.php/sport-manager?task=team_begegnungen_ical&id=218
X-WR-CALNAME;VALUE=TEXT:Tfc Tulln
BEGIN:VEVENT
CLASS:PUBLIC
DTSTART:20210829T100000Z
DURATION:PT2H30M
STATUS:CONFIRMED
SUMMARY:ASKÖ TFC Twisters Schönering vs. Tfc Tulln
DESCRIPTION:Bundesliga Kreuzspiele 2021 (7. Runde)\nErgebnis: 15:4 (15:4)
LOCATION:Bundesleistungszentrum Pielachtal, Schwerbach 4, 3204 Kirchberg-Schwerbach
UID:SM-B525@www.tischfussball-noe.at
PRIORITY:5
SEQUENCE:1
CATEGORIES:SPORT
DTSTAMP:20260421T135210
BEGIN:VALARM
ACTION:DISPLAY
TRIGGER:-PT2H
END:VALARM
END:VEVENT
END:VCALENDAR
