BEGIN:VCALENDAR
VERSION:2.0
PRODID:PHP
METHOD:REQUEST
X-ORIGINAL-URL:http://www.tischfussball-noe.at/index.php/sport-manager/mannschaftswettbewerbe?task=team_begegnungen_ical&id=224
X-WR-CALNAME;VALUE=TEXT:CULT Wuzelteam Klaus
BEGIN:VEVENT
CLASS:PUBLIC
DTSTART:20211009T080000Z
DURATION:PT2H30M
STATUS:CONFIRMED
SUMMARY:CULT Wuzelteam Klaus vs. Hotshots Graz
DESCRIPTION:Damen Bundesliga Qualifikation 2021 (1. Runde)\nErgebnis: 15:35 (15:35)
UID:SM-B530@www.tischfussball-noe.at
PRIORITY:5
SEQUENCE:1
CATEGORIES:SPORT
DTSTAMP:20260423T171303
END:VEVENT
BEGIN:VEVENT
CLASS:PUBLIC
DTSTART:20211009T083000Z
DURATION:PT2H30M
STATUS:CONFIRMED
SUMMARY:CULT Wuzelteam Klaus vs. Zugfabrik Wien
DESCRIPTION:Damen Bundesliga Qualifikation 2021 (2. Runde)\nErgebnis: 33:27 (33:27)
UID:SM-B532@www.tischfussball-noe.at
PRIORITY:5
SEQUENCE:1
CATEGORIES:SPORT
DTSTAMP:20260423T171303
END:VEVENT
BEGIN:VEVENT
CLASS:PUBLIC
DTSTART:20211009T090000Z
DURATION:PT2H30M
STATUS:CONFIRMED
SUMMARY:TFC Pielachtal vs. CULT Wuzelteam Klaus
DESCRIPTION:Damen Bundesliga Qualifikation 2021 (3. Runde)\nErgebnis: 29:23 (29:23)
UID:SM-B534@www.tischfussball-noe.at
PRIORITY:5
SEQUENCE:1
CATEGORIES:SPORT
DTSTAMP:20260423T171303
END:VEVENT
BEGIN:VEVENT
CLASS:PUBLIC
DTSTART:20211009T100000Z
DURATION:PT2H30M
STATUS:CONFIRMED
SUMMARY:CULT Wuzelteam Klaus vs. Kreuz & Quer
DESCRIPTION:Damen Bundesliga Qualifikation 2021 (5. Runde)\nErgebnis: 19:33 (19:33)
UID:SM-B539@www.tischfussball-noe.at
PRIORITY:5
SEQUENCE:1
CATEGORIES:SPORT
DTSTAMP:20260423T171303
END:VEVENT
BEGIN:VEVENT
CLASS:PUBLIC
DTSTART:20211009T134500Z
DURATION:PT2H30M
STATUS:CONFIRMED
SUMMARY:CULT Wuzelteam Klaus vs. Zugfabrik Wien
DESCRIPTION:KO Damen Bundesliga (Viertelfinale)\nErgebnis: 7:6 (7:6)
UID:SM-B542@www.tischfussball-noe.at
PRIORITY:5
SEQUENCE:1
CATEGORIES:SPORT
DTSTAMP:20260423T171303
END:VEVENT
BEGIN:VEVENT
CLASS:PUBLIC
DTSTART:20211009T144500Z
DURATION:PT2H30M
STATUS:CONFIRMED
SUMMARY:Hotshots Graz vs. CULT Wuzelteam Klaus
DESCRIPTION:KO Damen Bundesliga (Halbfinale)\nErgebnis: 11:8 (11:8)
UID:SM-B544@www.tischfussball-noe.at
PRIORITY:5
SEQUENCE:1
CATEGORIES:SPORT
DTSTAMP:20260423T171303
END:VEVENT
BEGIN:VEVENT
CLASS:PUBLIC
DTSTART:20211009T170000Z
DURATION:PT2H30M
STATUS:CONFIRMED
SUMMARY:CULT Wuzelteam Klaus vs. TFC Pielachtal
DESCRIPTION:KO Damen Bundesliga (Platz 3)\nErgebnis: 12:4 (12:4)
UID:SM-B545@www.tischfussball-noe.at
PRIORITY:5
SEQUENCE:1
CATEGORIES:SPORT
DTSTAMP:20260423T171303
END:VEVENT
END:VCALENDAR
