BEGIN:VCALENDAR
VERSION:2.0
PRODID:PHP
METHOD:REQUEST
X-ORIGINAL-URL:http://www.tischfussball-noe.at/index.php/sport-manager/mannschaftswettbewerbe?task=team_begegnungen_ical&id=225
X-WR-CALNAME;VALUE=TEXT:Hotshots Graz
BEGIN:VEVENT
CLASS:PUBLIC
DTSTART:20211009T080000Z
DURATION:PT2H30M
STATUS:CONFIRMED
SUMMARY:CULT Wuzelteam Klaus vs. Hotshots Graz
DESCRIPTION:Damen Bundesliga Qualifikation 2021 (1. Runde)\nErgebnis: 15:35 (15:35)
UID:SM-B530@www.tischfussball-noe.at
PRIORITY:5
SEQUENCE:1
CATEGORIES:SPORT
DTSTAMP:20260423T185032
BEGIN:VALARM
ACTION:DISPLAY
TRIGGER:-PT2H
END:VALARM
END:VEVENT
BEGIN:VEVENT
CLASS:PUBLIC
DTSTART:20211009T083000Z
DURATION:PT2H30M
STATUS:CONFIRMED
SUMMARY:Hotshots Graz vs. Kreuz & Quer
DESCRIPTION:Damen Bundesliga Qualifikation 2021 (2. Runde)\nErgebnis: 27:20 (27:20)
UID:SM-B533@www.tischfussball-noe.at
PRIORITY:5
SEQUENCE:1
CATEGORIES:SPORT
DTSTAMP:20260423T185032
BEGIN:VALARM
ACTION:DISPLAY
TRIGGER:-PT2H
END:VALARM
END:VEVENT
BEGIN:VEVENT
CLASS:PUBLIC
DTSTART:20211009T093000Z
DURATION:PT2H30M
STATUS:CONFIRMED
SUMMARY:Zugfabrik Wien vs. Hotshots Graz
DESCRIPTION:Damen Bundesliga Qualifikation 2021 (4. Runde)\nErgebnis: 23:34 (23:34)
UID:SM-B537@www.tischfussball-noe.at
PRIORITY:5
SEQUENCE:1
CATEGORIES:SPORT
DTSTAMP:20260423T185032
BEGIN:VALARM
ACTION:DISPLAY
TRIGGER:-PT2H
END:VALARM
END:VEVENT
BEGIN:VEVENT
CLASS:PUBLIC
DTSTART:20211009T100000Z
DURATION:PT2H30M
STATUS:CONFIRMED
SUMMARY:TFC Pielachtal vs. Hotshots Graz
DESCRIPTION:Damen Bundesliga Qualifikation 2021 (5. Runde)\nErgebnis: 13:35 (13:35)
UID:SM-B538@www.tischfussball-noe.at
PRIORITY:5
SEQUENCE:1
CATEGORIES:SPORT
DTSTAMP:20260423T185032
BEGIN:VALARM
ACTION:DISPLAY
TRIGGER:-PT2H
END:VALARM
END:VEVENT
BEGIN:VEVENT
CLASS:PUBLIC
DTSTART:20211009T144500Z
DURATION:PT2H30M
STATUS:CONFIRMED
SUMMARY:Hotshots Graz vs. CULT Wuzelteam Klaus
DESCRIPTION:KO Damen Bundesliga (Halbfinale)\nErgebnis: 11:8 (11:8)
UID:SM-B544@www.tischfussball-noe.at
PRIORITY:5
SEQUENCE:1
CATEGORIES:SPORT
DTSTAMP:20260423T185032
BEGIN:VALARM
ACTION:DISPLAY
TRIGGER:-PT2H
END:VALARM
END:VEVENT
BEGIN:VEVENT
CLASS:PUBLIC
DTSTART:20211009T170000Z
DURATION:PT2H30M
STATUS:CONFIRMED
SUMMARY:Hotshots Graz vs. Kreuz & Quer
DESCRIPTION:KO Damen Bundesliga (Finale)\nErgebnis: 12:4 (12:4)
UID:SM-B546@www.tischfussball-noe.at
PRIORITY:5
SEQUENCE:1
CATEGORIES:SPORT
DTSTAMP:20260423T185032
BEGIN:VALARM
ACTION:DISPLAY
TRIGGER:-PT2H
END:VALARM
END:VEVENT
END:VCALENDAR
